BEGIN:VCALENDAR
VERSION:2.0
PRODID:-//wp-events-plugin.com//7.2.3.1//EN
TZID:America/Edmonton
X-WR-TIMEZONE:America/Edmonton
BEGIN:VEVENT
UID:2084@calgarycsl.org
DTSTART;TZID=America/Edmonton:20221211T120000
DTEND;TZID=America/Edmonton:20221211T133000
DTSTAMP:20221018T152743Z
URL:https://calgarycsl.org/events/loopers-looping-2/
SUMMARY:Loopers Looping
DESCRIPTION:Everyone welcome to learn and participate
ATTACH;FMTTYPE=image/jpeg:https://calgarycsl.org/wp-content/uploads/2022/1
 0/looms.png
CATEGORIES:More CCSL Events
END:VEVENT
BEGIN:VTIMEZONE
TZID:America/Edmonton
X-LIC-LOCATION:America/Edmonton
BEGIN:STANDARD
DTSTART:20221106T010000
TZOFFSETFROM:-0600
TZOFFSETTO:-0700
TZNAME:MST
END:STANDARD
END:VTIMEZONE
END:VCALENDAR