BEGIN:VCALENDAR
VERSION:2.0
PRODID:-//wp-events-plugin.com//7.2.3.1//EN
TZID:America/Edmonton
X-WR-TIMEZONE:America/Edmonton
BEGIN:VEVENT
UID:5436@calgarycsl.org
DTSTART:20260322T193000Z
DTEND:20260322T210000Z
DTSTAMP:20260303T211956Z
URL:https://calgarycsl.org/events/listening-from-presence/
SUMMARY:Listening From Presence
DESCRIPTION:Sunday Session - March 22\, 2026\n\n12:30 pm to 2 pm\n\nFacilit
 ated by Fran Watson\n\nSuggested donation: $20\nListening from Presence\nE
 ight Ego Patterns That Disrupt Conscious Communication\nIn Science of Mind
 \, we understand that consciousness is creative. The beliefs and perceptio
 ns we hold shape both our experiences and our relationships.\n\nWhat happe
 ns when unconscious assumptions and judgments enter our conversations?\n C
 onnection falters. Defensiveness rises. True listening fades.\n\nIn this e
 xperiential workshop\, you will:\n\n 	 Explore eight ego patterns that int
 erfere with authentic connection\n • Recognize communication breakdowns 
 in real time and return to presence\n • Practice listening from spiritua
 l centeredness rather than reactivity\n\nWhen we listen from Presence\, co
 nversations become opportunities for healing\, clarity\, and deeper unity.
 \n\nJoin us to strengthen your conscious listening skills.
ATTACH;FMTTYPE=image/jpeg:https://calgarycsl.org/wp-content/uploads/2026/0
 3/491948d4-12bc-45ec-a3ad-90769f4bcbfb_mompayingattention.avif
CATEGORIES:More CCSL Events,Workshop
END:VEVENT
END:VCALENDAR