BEGIN:VCALENDAR
VERSION:2.0
PRODID:-//wp-events-plugin.com//7.2.3.1//EN
TZID:America/Edmonton
X-WR-TIMEZONE:America/Edmonton
BEGIN:VEVENT
UID:1884@calgarycsl.org
DTSTART;TZID=America/Edmonton:20220513T183000
DTEND;TZID=America/Edmonton:20220513T193000
DTSTAMP:20220504T200144Z
URL:https://calgarycsl.org/events/laughter-yoga/
SUMMARY:Laughter Yoga
DESCRIPTION:Previous experience not required.\n\nWith Sharon Falconer and 
 Heather Bharadia\n\nFriday\, May 13\n\n6:30 - 7:30pm MST\nSit or stand.\n
 Come as you are and... join in:\nGentle stretching\nPlayful laughter\, no 
 jokes comedy or humour\nSpiritual joy\nAlleviate end-of-week energy crash\
 nBenefits…\n\n 	Boosts Your Immune System. Laughter boosts the immune sy
 stem by decreasing stress hormones\, increasing immune cells\, and infecti
 on-fighting antibodies\, thus improving your resistance to disease. ...\n 
 	Lowers Stress. ...\n 	Relieves Pain. ...\n 	Gives Your Abs a Workout. ...
 \n 	Protects Your Heart and Lungs\n\nZoom Link : https://us02web.zoom.us/j
 /86515570884?pwd=anV4VkpaWEpDYXlMa0RiS0ZKTlBVZz09\n\nLove offering accepte
 d and appreciated\n\n
ATTACH;FMTTYPE=image/jpeg:https://calgarycsl.org/wp-content/uploads/2021/0
 3/zzz.jpg
CATEGORIES:Workshop
END:VEVENT
BEGIN:VTIMEZONE
TZID:America/Edmonton
X-LIC-LOCATION:America/Edmonton
BEGIN:DAYLIGHT
DTSTART:20220313T030000
TZOFFSETFROM:-0700
TZOFFSETTO:-0600
TZNAME:MDT
END:DAYLIGHT
END:VTIMEZONE
END:VCALENDAR