BEGIN:VCALENDAR
VERSION:2.0
PRODID:-//wp-events-plugin.com//7.2.3.1//EN
TZID:America/Edmonton
X-WR-TIMEZONE:America/Edmonton
BEGIN:VEVENT
UID:1404@calgarycsl.org
DTSTART;TZID=America/Edmonton:20220408T183000
DTEND;TZID=America/Edmonton:20220408T193000
DTSTAMP:20220316T141708Z
URL:https://calgarycsl.org/events/laughter-yoga-2022-02-11/
SUMMARY:Laughter Yoga
DESCRIPTION:With Sharon Falconer and Heather Bharadia\n\nFriday\, April 8
 \n\n6:30 - 7:30pm MST\n\nThis class combines laughter exercises\, yogic br
 eathing\, gentle stretching and relaxation designed to enhance health and 
 well being.\n\nLove offering appreciated.\n\nZoom Link :\nhttps://us02web.
 zoom.us/j/87367808281?pwd=T0NyUGxLYmJ5T0VIbEZqVEVyWnROdz09\n\nMeeting ID: 
 873 6780 8281\nPasscode: laughter\n
ATTACH;FMTTYPE=image/jpeg:https://calgarycsl.org/wp-content/uploads/2021/0
 3/zzz.jpg
END:VEVENT
BEGIN:VTIMEZONE
TZID:America/Edmonton
X-LIC-LOCATION:America/Edmonton
BEGIN:DAYLIGHT
DTSTART:20220313T030000
TZOFFSETFROM:-0700
TZOFFSETTO:-0600
TZNAME:MDT
END:DAYLIGHT
END:VTIMEZONE
END:VCALENDAR