BEGIN:VCALENDAR
VERSION:2.0
PRODID:-//wp-events-plugin.com//7.2.3.1//EN
TZID:America/Edmonton
X-WR-TIMEZONE:America/Edmonton
BEGIN:VEVENT
UID:1402@calgarycsl.org
DTSTART;TZID=America/Edmonton:20211210T183000
DTEND;TZID=America/Edmonton:20211210T193000
DTSTAMP:20210901T163128Z
URL:https://calgarycsl.org/events/laughter-yoga-2021-12-10/
SUMMARY:Laughter Yoga
DESCRIPTION:Join Sharon Falconer as she hosts Laughter Yoga on the 2nd Frid
 ay of the month from 6:30 - 7:30pm MST.\n\nThe next classes are:\nSEPT 10\
 , Oct 8 &amp\; Nov 12.\n\nThis class combines laughter exercises\, yogic b
 reathing\, gentle stretching and relaxation designed to enhance health and
  well being.\n\nClick here for the Zoom link. Passcode is Haha.\nLove offe
 ring appreciated.
ATTACH;FMTTYPE=image/jpeg:https://calgarycsl.org/wp-content/uploads/2021/0
 3/zzz.jpg
END:VEVENT
BEGIN:VTIMEZONE
TZID:America/Edmonton
X-LIC-LOCATION:America/Edmonton
BEGIN:STANDARD
DTSTART:20211107T010000
TZOFFSETFROM:-0600
TZOFFSETTO:-0700
TZNAME:MST
END:STANDARD
END:VTIMEZONE
END:VCALENDAR