BEGIN:VCALENDAR
VERSION:2.0
PRODID:-//wp-events-plugin.com//7.2.3.1//EN
TZID:America/Edmonton
X-WR-TIMEZONE:America/Edmonton
BEGIN:VEVENT
UID:1912@calgarycsl.org
DTSTART;TZID=America/Edmonton:20220705T121500
DTEND;TZID=America/Edmonton:20220705T124500
DTSTAMP:20220608T191043Z
URL:https://calgarycsl.org/events/laughter-yoga-2/
SUMMARY:Laughter Yoga
DESCRIPTION:Previous experience not required.\n\nWith Sharon Falconer and 
 Heather Bharadia\n\nThe First Tuesday of every month\n\n12:15 - 12:45pm M
 ST\nSit or stand.\nCome as you are and... join in:\nGentle stretching\nPla
 yful laughter\, no jokes comedy or humour\nSpiritual joy\nAlleviate end-of
 -week energy crash\nBenefits…\n\n 	Boosts Your Immune System. Laughter b
 oosts the immune system by decreasing stress hormones\, increasing immune 
 cells\, and infection-fighting antibodies\, thus improving your resistance
  to disease. ...\n 	Lowers Stress. ...\n 	Relieves Pain. ...\n 	Gives Your
  Abs a Workout. ...\n 	Protects Your Heart and Lungs\n\nZoom link :\n\nhtt
 ps://us04web.zoom.us/j/7388051473?pwd=JlRBKvrHSLwu5Gi25zjO-8cqZyxFr_.1\n\n
 Meeting ID: 738 805 1473\n\nPasscode: hahaha\n\nLove offering accepted and
  appreciated\n\n
ATTACH;FMTTYPE=image/jpeg:https://calgarycsl.org/wp-content/uploads/2021/0
 3/zzz.jpg
CATEGORIES:Workshop
END:VEVENT
BEGIN:VTIMEZONE
TZID:America/Edmonton
X-LIC-LOCATION:America/Edmonton
BEGIN:DAYLIGHT
DTSTART:20220313T030000
TZOFFSETFROM:-0700
TZOFFSETTO:-0600
TZNAME:MDT
END:DAYLIGHT
END:VTIMEZONE
END:VCALENDAR