BEGIN:VCALENDAR
VERSION:2.0
PRODID:-//wp-events-plugin.com//7.2.3.1//EN
TZID:America/Edmonton
X-WR-TIMEZONE:America/Edmonton
BEGIN:VEVENT
UID:2005@calgarycsl.org
DTSTART;TZID=America/Edmonton:20250518T123000
DTEND;TZID=America/Edmonton:20250518T140000
DTSTAMP:20250428T171148Z
URL:https://calgarycsl.org/events/laugh/
SUMMARY:Laughter Yoga
DESCRIPTION:\nWhat is Laughter Yoga?\nWho better to find out from than Shar
 on Falconer\, the 2024 Canadian Laughter Champion!\n\nSunday\, May 18\, 12
 :30 - 2:00. Go grab a quick bite to eat after service\, then return for th
 e laughter.\n\n$20 love offering\n\nSend your $20 e-transfer to office@cal
 garycsl.org
ATTACH;FMTTYPE=image/jpeg:https://calgarycsl.org/wp-content/uploads/2022/0
 3/image.png
CATEGORIES:Workshop
END:VEVENT
BEGIN:VTIMEZONE
TZID:America/Edmonton
X-LIC-LOCATION:America/Edmonton
BEGIN:DAYLIGHT
DTSTART:20250309T030000
TZOFFSETFROM:-0700
TZOFFSETTO:-0600
TZNAME:MDT
END:DAYLIGHT
END:VTIMEZONE
END:VCALENDAR