BEGIN:VCALENDAR
VERSION:2.0
PRODID:-//wp-events-plugin.com//7.2.3.1//EN
TZID:America/Edmonton
X-WR-TIMEZONE:America/Edmonton
BEGIN:VEVENT
UID:5491@calgarycsl.org
DTSTART:20260606T230000Z
DTEND:20260607T060000Z
DTSTAMP:20260422T162500Z
URL:https://calgarycsl.org/events/june-6-classroom-private-event/
SUMMARY:June 6 Classroom Private Event
DESCRIPTION:
CATEGORIES:External Private
END:VEVENT
END:VCALENDAR