BEGIN:VCALENDAR
VERSION:2.0
PRODID:-//wp-events-plugin.com//7.2.3.1//EN
TZID:America/Edmonton
X-WR-TIMEZONE:America/Edmonton
BEGIN:VEVENT
UID:3745@calgarycsl.org
DTSTART;TZID=America/Edmonton:20240623T123000
DTEND;TZID=America/Edmonton:20240623T140000
DTSTAMP:20240606T183245Z
URL:https://calgarycsl.org/events/june-23-workshop-ask-a-better-question/
SUMMARY:June 23 Workshop - Ask A Better Question!
DESCRIPTION:June 23 Workshop - Ask A Better Question!\nGot a problem you ca
 n’t stop thinking about?\n\nAre you waking up thinking about the problem
 ?\n\nDoes it hound you all day till you go to bed and dream about it?\n\nS
 top ruminating\, already!\n\nTime to ask a better question — and open yo
 ur mind to new ideas and possibilities that lead to a result you actually 
 want.\n\nJoin Fran Watson for this workshop where you will discover …\n\
 n 	the real reason you’ve been stuck\n 	how to create a magnetic\, super
 -fun question\n 	heart-expanding results you actually want\n 	supportive\,
  playful\, perspective-changing guidance\n 	a renewed sense of hope\n\n12:
 30 - 2:00\n$20 Love Offering
ATTACH;FMTTYPE=image/jpeg:https://calgarycsl.org/wp-content/uploads/2024/0
 6/Eventbrite-Creating-a-question-June-23-1.png
CATEGORIES:Workshop
END:VEVENT
BEGIN:VTIMEZONE
TZID:America/Edmonton
X-LIC-LOCATION:America/Edmonton
BEGIN:DAYLIGHT
DTSTART:20240310T030000
TZOFFSETFROM:-0700
TZOFFSETTO:-0600
TZNAME:MDT
END:DAYLIGHT
END:VTIMEZONE
END:VCALENDAR