BEGIN:VCALENDAR
VERSION:2.0
PRODID:-//wp-events-plugin.com//7.2.3.1//EN
TZID:America/Edmonton
X-WR-TIMEZONE:America/Edmonton
BEGIN:VEVENT
UID:4870@calgarycsl.org
DTSTART;TZID=America/Edmonton:20250621T180000
DTEND;TZID=America/Edmonton:20250621T193000
DTSTAMP:20250621T202122Z
URL:https://calgarycsl.org/events/june-21-book-launch/
SUMMARY:June 21 "The Treasure" Book Launch
DESCRIPTION:About the Book: This book is an introductory journey through th
 e ancestral teachings\, core concepts\, principles\, and practices of the
  Andean Cosmovision\, also known as Andean shamanism.\nThis worldview in
 vites us to create our own sacred way of relating to the cosmos and to the
  world around us — especially to Mother Earth.\nIt reminds us that wis
 dom itself is the true treasure.\n\nEvent link registration: https://form
 s.gle/wBFW9ozLidhGAUdK6
ATTACH;FMTTYPE=image/jpeg:https://calgarycsl.org/wp-content/uploads/2025/0
 6/the-treaure.jpg
CATEGORIES:External Public
LOCATION:Calgary Centre for Spiritual Living\, 4411 Manitoba Rd SE\, Calgar
 y\, AB\, T2G 4B9\, Canada
X-APPLE-STRUCTURED-LOCATION;VALUE=URI;X-ADDRESS=4411 Manitoba Rd SE\, Calga
 ry\, AB\, T2G 4B9\, Canada;X-APPLE-RADIUS=100;X-TITLE=Calgary Centre for S
 piritual Living:geo:0,0
END:VEVENT
BEGIN:VTIMEZONE
TZID:America/Edmonton
X-LIC-LOCATION:America/Edmonton
BEGIN:DAYLIGHT
DTSTART:20250309T030000
TZOFFSETFROM:-0700
TZOFFSETTO:-0600
TZNAME:MDT
END:DAYLIGHT
END:VTIMEZONE
END:VCALENDAR