BEGIN:VCALENDAR
VERSION:2.0
PRODID:-//wp-events-plugin.com//7.2.3.1//EN
TZID:America/Edmonton
X-WR-TIMEZONE:America/Edmonton
BEGIN:VEVENT
UID:3417@calgarycsl.org
DTSTART;TZID=America/Edmonton:20240529T183000
DTEND;TZID=America/Edmonton:20240529T210000
DTSTAMP:20240328T170750Z
URL:https://calgarycsl.org/events/journey-of-the-soul-2024-05-29/
SUMMARY:Journey Of The Soul
DESCRIPTION:Journey of The Soul\nDesigned to support you to unlock your tru
 e potential\, cultivate soul presence\, and align your life with your high
 est purpose. With a focus on practical application\, emotional healing\, a
 nd daily meditation\, this course empowers students to engage in the trans
 formative journey of self-realization and spiritual evolution.\n\n 	Co-fac
 ilitated by Licensed Spiritual Practitioners Sabrina Mauro and Lance Rath.
  This is an in-person only course.\n 	Text: Magic of the Soul\, by Patrick
  Harbula\n\n6 Weeks\n\n$190\n\nFoundations Course recommended but not requ
 ired.
ATTACH;FMTTYPE=image/jpeg:https://calgarycsl.org/wp-content/uploads/2024/0
 3/Journey-of-The-Soul-400x400-1.png
CATEGORIES:Course
END:VEVENT
BEGIN:VTIMEZONE
TZID:America/Edmonton
X-LIC-LOCATION:America/Edmonton
BEGIN:DAYLIGHT
DTSTART:20240310T030000
TZOFFSETFROM:-0700
TZOFFSETTO:-0600
TZNAME:MDT
END:DAYLIGHT
END:VTIMEZONE
END:VCALENDAR