BEGIN:VCALENDAR
VERSION:2.0
PRODID:-//wp-events-plugin.com//7.2.3.1//EN
TZID:America/Edmonton
X-WR-TIMEZONE:America/Edmonton
BEGIN:VEVENT
UID:2012@calgarycsl.org
DTSTART;TZID=America/Edmonton:20220904T103000
DTEND;TZID=America/Edmonton:20220904T123000
DTSTAMP:20220829T151045Z
URL:https://calgarycsl.org/events/join-calgary-centre-for-spiritual-living
 -at-the-pride-parade/
SUMMARY:Join Calgary Centre for Spiritual Living at the Pride Parade
DESCRIPTION:We will be gathering together to watch the parade as a communit
 y.\n\nWear your PRIDE and be prepared to have so much fun!\n\n10:30 AM\, 9
  AVE and 1 Street SW
ATTACH;FMTTYPE=image/jpeg:https://calgarycsl.org/wp-content/uploads/2022/0
 8/Pride-meeting-place.png
CATEGORIES:External Public,More CCSL Events,Social
END:VEVENT
BEGIN:VTIMEZONE
TZID:America/Edmonton
X-LIC-LOCATION:America/Edmonton
BEGIN:DAYLIGHT
DTSTART:20220313T030000
TZOFFSETFROM:-0700
TZOFFSETTO:-0600
TZNAME:MDT
END:DAYLIGHT
END:VTIMEZONE
END:VCALENDAR