BEGIN:VCALENDAR
VERSION:2.0
PRODID:-//wp-events-plugin.com//7.2.3.1//EN
TZID:America/Edmonton
X-WR-TIMEZONE:America/Edmonton
BEGIN:VEVENT
UID:5418@calgarycsl.org
DTSTART;TZID=America/Edmonton:20260125T123000
DTEND;TZID=America/Edmonton:20260125T140000
DTSTAMP:20260107T151650Z
URL:https://calgarycsl.org/events/january-25-play-shop/
SUMMARY:January 25 Play Shop
DESCRIPTION:HOCUS POCUS FOCUS – Play Shop\n\nCrave Freedom? Stuck in a fe
 eling of Bondage? Or are you already Living Life Large &amp\; wanting more
 ?\n\nIf the answer to any of those questions is yes\, then this Play Shop 
 is for you!\nWe will discover that bondage doesn’t really exist and thos
 e unwanted situations and circumstances can be shifted using FOCUS and her
  sister CLARITY.\n\nJoin Reverend Lesley McNamara for an afternoon of self
 -discovery\, connection\, and wee bit of fun.\n\nSunday January 25th\nCost
  $20\, send your e-transfer to office@calgarycsl.org\n12:30 to 2 pm
ATTACH;FMTTYPE=image/jpeg:https://calgarycsl.org/wp-content/uploads/2026/0
 1/image-16.png
CATEGORIES:Workshop
END:VEVENT
BEGIN:VTIMEZONE
TZID:America/Edmonton
X-LIC-LOCATION:America/Edmonton
BEGIN:STANDARD
DTSTART:20251102T010000
TZOFFSETFROM:-0600
TZOFFSETTO:-0700
TZNAME:MST
END:STANDARD
END:VTIMEZONE
END:VCALENDAR