BEGIN:VCALENDAR
VERSION:2.0
PRODID:-//wp-events-plugin.com//7.2.3.1//EN
TZID:America/Edmonton
X-WR-TIMEZONE:America/Edmonton
BEGIN:VEVENT
UID:2478@calgarycsl.org
DTSTART;TZID=America/Edmonton:20230625T133000
DTEND;TZID=America/Edmonton:20230625T153000
DTSTAMP:20230509T141027Z
URL:https://calgarycsl.org/events/inner-child-workshop-with-patricia-morga
 n/
SUMMARY:Embracing Your Inner Child Workshop - With Patricia Morgan
DESCRIPTION:“Until you make the unconscious conscious\, it will direct yo
 ur life and you will call it fate.” Carl Jung\nYour Inner Child represen
 ts your emotional\, creative\, and unconscious self. It adapted to parenta
 l and caregiver behaviours creating unconscious\, conditioned patterns. Th
 ose patterns may have resulted in emotional safety\, emotional regulation\
 , and self-love or perhaps emotional dysregulation\, anger\, shame\, anxie
 ty\, and depression. Inner Child Work provides a framework to put unhelpfu
 l patterns in the past and develop new and healthier ones. Join us to disc
 over and embrace all your parts.\n\n1.30 – 3.30 pm\, Sunday\, June 25\, 
 2023\n\nFee: $20\n\nRegister by sending payment to office@calgarycsl.org (
 please add "Inner Child" when you send the E-Transfer)\n\n&nbsp\;\n\nYou w
 ill:\n\n1. Discover your Inner Child and the ego-parts that interact with 
 it.\n\n2. Be invited to connect with your Inner Child from your higher sel
 f.\n\n3. Have simple strategies to reset old patterns.\n\n4. Experience a 
 love-in with all your parts.\n\n5. Be affirmed that you are the divine gui
 de of your human experience.
ATTACH;FMTTYPE=image/jpeg:https://calgarycsl.org/wp-content/uploads/2023/0
 4/Inner-CHild.jpg
CATEGORIES:Workshop
END:VEVENT
BEGIN:VTIMEZONE
TZID:America/Edmonton
X-LIC-LOCATION:America/Edmonton
BEGIN:DAYLIGHT
DTSTART:20230312T030000
TZOFFSETFROM:-0700
TZOFFSETTO:-0600
TZNAME:MDT
END:DAYLIGHT
END:VTIMEZONE
END:VCALENDAR