BEGIN:VCALENDAR
VERSION:2.0
PRODID:-//wp-events-plugin.com//7.2.3.1//EN
TZID:America/Edmonton
X-WR-TIMEZONE:America/Edmonton
BEGIN:VEVENT
UID:4290@calgarycsl.org
DTSTART;TZID=America/Edmonton:20250504T123000
DTEND;TZID=America/Edmonton:20250504T140000
DTSTAMP:20250410T153557Z
URL:https://calgarycsl.org/events/indoor-labyrinth-walk-december-1/
SUMMARY:LABYRINTH WALK - MAY 4th
DESCRIPTION:You are invited on a journey of reflection and joy.\n\nAfter ou
 r Sunday Celebration on May 4th\, we will convert the sanctuary for a laby
 rinth walk\, inviting our spiritual community to step into an experience o
 f mindfulness and contemplation steeped in centuries of spiritual history.
  A labyrinth\, with its twists and turns\, is a wonderful tool for meditat
 ion and awakening\, and often a transformational metaphor for our lives.\n
 \nThe walk is facilitated by Neil Williams and Valda Harris. It will begin
  at 12:30 and will likely conclude about 2 p.m.\, depending on the number 
 of participants. This is a Social Committee event. A Love Offering to the 
 Centre is appreciated.
ATTACH;FMTTYPE=image/jpeg:https://calgarycsl.org/wp-content/uploads/2024/1
 1/IMG_6712.jpg
CATEGORIES:Social
END:VEVENT
BEGIN:VTIMEZONE
TZID:America/Edmonton
X-LIC-LOCATION:America/Edmonton
BEGIN:DAYLIGHT
DTSTART:20250309T030000
TZOFFSETFROM:-0700
TZOFFSETTO:-0600
TZNAME:MDT
END:DAYLIGHT
END:VTIMEZONE
END:VCALENDAR