BEGIN:VCALENDAR
VERSION:2.0
PRODID:-//wp-events-plugin.com//7.2.3.1//EN
TZID:America/Edmonton
X-WR-TIMEZONE:America/Edmonton
BEGIN:VEVENT
UID:2080@calgarycsl.org
DTSTART;TZID=America/Edmonton:20221016T120000
DTEND;TZID=America/Edmonton:20221016T140000
DTSTAMP:20221004T141101Z
URL:https://calgarycsl.org/events/hooking-lessons/
SUMMARY:Hooking Lessons
DESCRIPTION:Have you ever wondered how to hook but were too scared to try?\
 n\nJoin Rosalie Bains from noon to 2:00 PM to try out hooking and see if i
 t is for you!\n\nAll materials and supplies provided.
ATTACH;FMTTYPE=image/jpeg:https://calgarycsl.org/wp-content/uploads/2022/1
 0/looms.png
CATEGORIES:More CCSL Events
END:VEVENT
BEGIN:VTIMEZONE
TZID:America/Edmonton
X-LIC-LOCATION:America/Edmonton
BEGIN:DAYLIGHT
DTSTART:20220313T030000
TZOFFSETFROM:-0700
TZOFFSETTO:-0600
TZNAME:MDT
END:DAYLIGHT
END:VTIMEZONE
END:VCALENDAR