BEGIN:VCALENDAR
VERSION:2.0
PRODID:-//wp-events-plugin.com//7.2.3.1//EN
TZID:America/Edmonton
X-WR-TIMEZONE:America/Edmonton
BEGIN:VEVENT
UID:2015@calgarycsl.org
DTSTART;TZID=America/Edmonton:20220907T190000
DTEND;TZID=America/Edmonton:20220907T200000
DTSTAMP:20220831T204739Z
URL:https://calgarycsl.org/events/hatha-yoga-with-charity/
SUMMARY:Hatha Yoga with Charity
DESCRIPTION:\n 	Drop in with $15 suggested donation\n 	Start right at 7:00 
 PM for one hour\n 	Bring your own yoga mat\n
ATTACH;FMTTYPE=image/jpeg:https://calgarycsl.org/wp-content/uploads/2020/0
 4/yoga-sea-beach-woman-doing-breath-retention-pose-web-header.jpg
CATEGORIES:More CCSL Events,Social
END:VEVENT
BEGIN:VTIMEZONE
TZID:America/Edmonton
X-LIC-LOCATION:America/Edmonton
BEGIN:DAYLIGHT
DTSTART:20220313T030000
TZOFFSETFROM:-0700
TZOFFSETTO:-0600
TZNAME:MDT
END:DAYLIGHT
END:VTIMEZONE
END:VCALENDAR