BEGIN:VCALENDAR
VERSION:2.0
PRODID:-//wp-events-plugin.com//7.2.3.1//EN
TZID:America/Edmonton
X-WR-TIMEZONE:America/Edmonton
BEGIN:VEVENT
UID:5163@calgarycsl.org
DTSTART;TZID=America/Edmonton:20251119T183000
DTEND;TZID=America/Edmonton:20251119T201500
DTSTAMP:20251027T191340Z
URL:https://calgarycsl.org/events/grief-support-circle/
SUMMARY:GRIEF SUPPORT CIRCLE
DESCRIPTION:STARTING WEDNESDAY NOVEMBER 19th\nANYONE AND EVERYONE WELCOME\n
 This is a regular drop-in Grief Support Circle starting on Wednesday Novem
 ber 19 from 6:30 to 8 pm\, meeting at the Centre - 4411 Manitoba Road SE\n
 \nThis group is intended to be a safe place for people to find support\, m
 eaning\, connection\, and healing for grief related to a variety of signif
 icant life transitions such as the death of someone close\, loss of a rela
 tionship\, pet\, job\, health\, home\, identity\, and more.\n\nWhile our P
 ractitioners are not therapists\, they are trained in creating safe spaces
  and deep listening\, conscious compassion and inquiry for those navigatin
 g grief in all its forms. Sabrina Mauro and Fran Watson will be leading th
 e group\, supported by other Practitioners and practitioners-in-training.\
 n\nAt this time\, no registration is required\, just show up. A love offer
 ing is appreciated. All proceeds will go to the Centre.\n\nThe Grief Suppo
 rt Group will run from 6:30 pm to 8 pm on the first and third Wednesdays o
 f the month.
ATTACH;FMTTYPE=image/jpeg:https://calgarycsl.org/wp-content/uploads/2025/1
 0/grief-and-loss.avif
CATEGORIES:Discussion Group,External Public,Meeting
END:VEVENT
BEGIN:VTIMEZONE
TZID:America/Edmonton
X-LIC-LOCATION:America/Edmonton
BEGIN:STANDARD
DTSTART:20251102T010000
TZOFFSETFROM:-0600
TZOFFSETTO:-0700
TZNAME:MST
END:STANDARD
END:VTIMEZONE
END:VCALENDAR