BEGIN:VCALENDAR
VERSION:2.0
PRODID:-//wp-events-plugin.com//7.2.3.1//EN
TZID:America/Edmonton
X-WR-TIMEZONE:America/Edmonton
BEGIN:VEVENT
UID:5245@calgarycsl.org
DTSTART;TZID=America/Edmonton:20260204T183000
DTEND;TZID=America/Edmonton:20260204T201500
DTSTAMP:20251222T172951Z
URL:https://calgarycsl.org/events/grief-support-circle-6/
SUMMARY:GRIEF SUPPORT CIRCLE
DESCRIPTION:ANYONE AND EVERYONE WELCOME\nThis is a regular drop-in Grief Su
 pport Circle Wednesday December 17 from 6:30 to 8 pm\, meeting at the Cent
 re - 4411 Manitoba Road SE.\n\nThis group is intended to be a safe place f
 or people to find support\, meaning\, connection\, and healing for grief r
 elated to a variety of significant life transitions such as the death of s
 omeone close\, loss of a relationship\, pet\, job\, health\, home\, identi
 ty\, and more.\n\nWhile our Practitioners are not therapists\, they are tr
 ained in creating safe spaces and deep listening\, conscious compassion an
 d inquiry for those navigating grief in all its forms. Sabrina Mauro and F
 ran Watson will be leading the group\, supported by other Practitioners an
 d practitioners-in-training.\n\nAt this time\, no registration is required
 \, just show up. A love offering is appreciated. All proceeds will go to t
 he Centre.\n\nThe Grief Support Group will run from 6:30 pm to 8 pm on the
  first and third Wednesdays of the month.\n***Please note***\nIf there wea
 ther outside is frightful this group will move to online. To get on the em
 ail list for the Grief Support group in order to be notified of when the g
 roup goes online\, please contact the office at office@calgarycsl.org
ATTACH;FMTTYPE=image/jpeg:https://calgarycsl.org/wp-content/uploads/2025/1
 0/grief-and-loss.avif
CATEGORIES:Discussion Group,External Public,Meeting
END:VEVENT
BEGIN:VTIMEZONE
TZID:America/Edmonton
X-LIC-LOCATION:America/Edmonton
BEGIN:STANDARD
DTSTART:20251102T010000
TZOFFSETFROM:-0600
TZOFFSETTO:-0700
TZNAME:MST
END:STANDARD
END:VTIMEZONE
END:VCALENDAR