BEGIN:VCALENDAR
VERSION:2.0
PRODID:-//wp-events-plugin.com//7.2.3.1//EN
TZID:America/Edmonton
X-WR-TIMEZONE:America/Edmonton
BEGIN:VEVENT
UID:5244@calgarycsl.org
DTSTART;TZID=America/Edmonton:20260121T183000
DTEND;TZID=America/Edmonton:20260121T201500
DTSTAMP:20251222T172554Z
URL:https://calgarycsl.org/events/grief-support-circle-5/
SUMMARY:GRIEF SUPPORT CIRCLE
DESCRIPTION:ANYONE AND EVERYONE WELCOME\nThis is a regular drop-in Grief Su
 pport Circle Wednesday January 21 from 6:30 to 8 pm\, meeting at the Centr
 e - 4411 Manitoba Road SE.\n\nThis group is intended to be a safe place fo
 r people to find support\, meaning\, connection\, and healing for grief re
 lated to a variety of significant life transitions such as the death of so
 meone close\, loss of a relationship\, pet\, job\, health\, home\, identit
 y\, and more.\n\nWhile our Practitioners are not therapists\, they are tra
 ined in creating safe spaces and deep listening\, conscious compassion and
  inquiry for those navigating grief in all its forms. Sabrina Mauro and Fr
 an Watson will be leading the group\, supported by other Practitioners and
  practitioners-in-training.\n\nAt this time\, no registration is required\
 , just show up. A love offering is appreciated. All proceeds will go to th
 e Centre.\n\nThe Grief Support Group will run from 6:30 pm to 8 pm on the 
 first and third Wednesdays of the month.\n***Please note***\nIf there weat
 her outside is frightful this group will move to online. To get on the ema
 il list for the Grief Support group in order to be notified of when the gr
 oup goes online\, please contact the office at office@calgarycsl.org
ATTACH;FMTTYPE=image/jpeg:https://calgarycsl.org/wp-content/uploads/2025/1
 0/grief-and-loss.avif
CATEGORIES:Discussion Group,External Public,Meeting
END:VEVENT
BEGIN:VTIMEZONE
TZID:America/Edmonton
X-LIC-LOCATION:America/Edmonton
BEGIN:STANDARD
DTSTART:20251102T010000
TZOFFSETFROM:-0600
TZOFFSETTO:-0700
TZNAME:MST
END:STANDARD
END:VTIMEZONE
END:VCALENDAR