BEGIN:VCALENDAR
VERSION:2.0
PRODID:-//wp-events-plugin.com//7.2.3.1//EN
TZID:America/Edmonton
X-WR-TIMEZONE:America/Edmonton
BEGIN:VEVENT
UID:5165@calgarycsl.org
DTSTART;TZID=America/Edmonton:20251217T183000
DTEND;TZID=America/Edmonton:20251217T201500
DTSTAMP:20251217T192549Z
URL:https://calgarycsl.org/events/grief-support-circle-3/
SUMMARY:GRIEF SUPPORT CIRCLE
DESCRIPTION:***PLEASE NOTE THAT DUE TO WEATHER THE GROUP WILL MEET ONLINE T
 ODAY\, STILL AT 6:30 PM. CONTACT THE OFFICE TO GET THE ONLINE LINK VIA EMA
 IL - office@calgarycsl.org***\nThis is a regular drop-in Grief Support Cir
 cle Wednesday December 17 from 6:30 to 8 pm\, meeting at the Centre - 4411
  Manitoba Road SE.\n\nThis group is intended to be a safe place for people
  to find support\, meaning\, connection\, and healing for grief related to
  a variety of significant life transitions such as the death of someone cl
 ose\, loss of a relationship\, pet\, job\, health\, home\, identity\, and 
 more.\n\nWhile our Practitioners are not therapists\, they are trained in 
 creating safe spaces and deep listening\, conscious compassion and inquiry
  for those navigating grief in all its forms. Sabrina Mauro and Fran Watso
 n will be leading the group\, supported by other Practitioners and practit
 ioners-in-training.\n\nAt this time\, no registration is required\, just s
 how up. A love offering is appreciated. All proceeds will go to the Centre
 .\n\nThe Grief Support Group will run from 6:30 pm to 8 pm on the first an
 d third Wednesdays of the month.
ATTACH;FMTTYPE=image/jpeg:https://calgarycsl.org/wp-content/uploads/2024/0
 5/438304934_835945595225700_4912081937955905273_n-1.jpg
CATEGORIES:Discussion Group,External Public,Meeting
END:VEVENT
BEGIN:VTIMEZONE
TZID:America/Edmonton
X-LIC-LOCATION:America/Edmonton
BEGIN:STANDARD
DTSTART:20251102T010000
TZOFFSETFROM:-0600
TZOFFSETTO:-0700
TZNAME:MST
END:STANDARD
END:VTIMEZONE
END:VCALENDAR