BEGIN:VCALENDAR
VERSION:2.0
PRODID:-//wp-events-plugin.com//7.2.3.1//EN
TZID:America/Edmonton
X-WR-TIMEZONE:America/Edmonton
BEGIN:VEVENT
UID:5249@calgarycsl.org
DTSTART;TZID=America/Edmonton:20260401T183000
DTEND;TZID=America/Edmonton:20260401T201500
DTSTAMP:20260401T170149Z
URL:https://calgarycsl.org/events/grief-support-circle-10/
SUMMARY:GRIEF SUPPORT CIRCLE
DESCRIPTION:ANYONE AND EVERYONE WELCOME\nNOTE!!!\nAPRIL 1 GRIEF CIRCLE\nIS 
 ONLINE DUE TO\nWEATHER\nEMAIL FRAN TO GET LINK\nfran@franandcompany.com\n\
 nThis is a regular drop-in Grief Support Circle Wednesday December 17 from
  6:30 to 8 pm\, meeting at the Centre - 4411 Manitoba Road SE.\n\nThis gro
 up is intended to be a safe place for people to find support\, meaning\, c
 onnection\, and healing for grief related to a variety of significant life
  transitions such as the death of someone close\, loss of a relationship\,
  pet\, job\, health\, home\, identity\, and more.\n\nWhile our Practitione
 rs are not therapists\, they are trained in creating safe spaces and deep 
 listening\, conscious compassion and inquiry for those navigating grief in
  all its forms. Sabrina Mauro and Fran Watson will be leading the group\, 
 supported by other Practitioners and practitioners-in-training.\n\nAt this
  time\, no registration is required\, just show up. A love offering is app
 reciated. All proceeds will go to the Centre.\n\nThe Grief Support Group w
 ill run from 6:30 pm to 8 pm on the first and third Wednesdays of the mont
 h.
ATTACH;FMTTYPE=image/jpeg:https://calgarycsl.org/wp-content/uploads/2025/1
 0/grief-and-loss.avif
CATEGORIES:Discussion Group,External Public,Meeting
END:VEVENT
BEGIN:VTIMEZONE
TZID:America/Edmonton
X-LIC-LOCATION:America/Edmonton
BEGIN:DAYLIGHT
DTSTART:20260308T030000
TZOFFSETFROM:-0700
TZOFFSETTO:-0600
TZNAME:MDT
END:DAYLIGHT
END:VTIMEZONE
END:VCALENDAR