BEGIN:VCALENDAR
VERSION:2.0
PRODID:-//wp-events-plugin.com//7.2.3.1//EN
TZID:America/Edmonton
X-WR-TIMEZONE:America/Edmonton
BEGIN:VEVENT
UID:2959@calgarycsl.org
DTSTART;TZID=America/Edmonton:20230809T193000
DTEND;TZID=America/Edmonton:20230809T210000
DTSTAMP:20230807T135008Z
URL:https://calgarycsl.org/events/free-info-craniosacral-therapy-lecture-a
 nd-demo/
SUMMARY:FREE INFO Craniosacral Therapy lecture and demo 
DESCRIPTION:FREE INFO Craniosacral Therapy lecture and demo \n730-9 pm Wed
 nesday August 9th @ 4411 Manitoba Rd SE\nCalgary\, Calgary Center for Spir
 itual Living\nPresenter:\nLearn about Craniosacral Therapy for Longevity a
 nd Wellness\nBasics of Craniosacral Therapy\, the Craniosacral System and 
 how it connects to the nervous system and whole body healing will be cover
 ed for laypersons and therapists’ interest. There will be a demo on this
  as well as a short video showing the dissection of the dural membrane tha
 t surrounds the brain and the spinal cord.\nALIGN ALIVE ACADEMY presenter\
 , Janice Zubin\, ND\, RMT\, CST-D\nCLASS info https://www.drzubin.com/cla
 sse\nIf you are unable to attend and want more info\, email link above\nCr
 aniosacral Therapy INTENSIVE Calgary 4 days 9am-5pm\n$100 SUMMER EARLY BIR
 D DISCOUNT until August 10th\npre-requisite to CRANIOSACRAL THERAPY THERAP
 EUTIC PROCESS TECHNIQUES Building on foundations of Craniosacral Therapy\,
  the Therapeutic Process Techniques PROTOCOL expands treatment possibiliti
 es. Learn additional techniques\, recognizing signs to take process to the
  next level. This workshop provides many tools for the release of energy 
 restrictions and resistance.\nEdmonton Oct 21&amp\;22\, Calgary Nov 4&amp\
 ;5
ATTACH;FMTTYPE=image/jpeg:https://calgarycsl.org/wp-content/uploads/2023/0
 8/CSTbest-rotated.jpeg
CATEGORIES:Workshop
LOCATION:Calgary Centre for Spiritual Living\, 4411 Manitoba Rd SE\, Calgar
 y\, AB\, T2G 4B9\, Canada
X-APPLE-STRUCTURED-LOCATION;VALUE=URI;X-ADDRESS=4411 Manitoba Rd SE\, Calga
 ry\, AB\, T2G 4B9\, Canada;X-APPLE-RADIUS=100;X-TITLE=Calgary Centre for S
 piritual Living:geo:0,0
END:VEVENT
BEGIN:VTIMEZONE
TZID:America/Edmonton
X-LIC-LOCATION:America/Edmonton
BEGIN:DAYLIGHT
DTSTART:20230312T030000
TZOFFSETFROM:-0700
TZOFFSETTO:-0600
TZNAME:MDT
END:DAYLIGHT
END:VTIMEZONE
END:VCALENDAR