BEGIN:VCALENDAR
VERSION:2.0
PRODID:-//wp-events-plugin.com//7.2.3.1//EN
TZID:America/Edmonton
X-WR-TIMEZONE:America/Edmonton
BEGIN:VEVENT
UID:4859@calgarycsl.org
DTSTART;TZID=America/Edmonton:20250419T130000
DTEND;TZID=America/Edmonton:20250419T170000
DTSTAMP:20250310T182820Z
URL:https://calgarycsl.org/events/fred-angel-celebration-of-life/
SUMMARY:Fred Angel Celebration Of Life
DESCRIPTION:
CATEGORIES:External Public
END:VEVENT
BEGIN:VTIMEZONE
TZID:America/Edmonton
X-LIC-LOCATION:America/Edmonton
BEGIN:DAYLIGHT
DTSTART:20250309T030000
TZOFFSETFROM:-0700
TZOFFSETTO:-0600
TZNAME:MDT
END:DAYLIGHT
END:VTIMEZONE
END:VCALENDAR