BEGIN:VCALENDAR
VERSION:2.0
PRODID:-//wp-events-plugin.com//7.2.3.1//EN
TZID:America/Edmonton
X-WR-TIMEZONE:America/Edmonton
BEGIN:VEVENT
UID:2957@calgarycsl.org
DTSTART;TZID=America/Edmonton:20231104T090000
DTEND;TZID=America/Edmonton:20231104T160000
DTSTAMP:20230727T192503Z
URL:https://calgarycsl.org/events/foundations-saturday-class/
SUMMARY:Foundations Saturday Class
DESCRIPTION:
CATEGORIES:Course
END:VEVENT
BEGIN:VTIMEZONE
TZID:America/Edmonton
X-LIC-LOCATION:America/Edmonton
BEGIN:DAYLIGHT
DTSTART:20230312T030000
TZOFFSETFROM:-0700
TZOFFSETTO:-0600
TZNAME:MDT
END:DAYLIGHT
END:VTIMEZONE
END:VCALENDAR