BEGIN:VCALENDAR
VERSION:2.0
PRODID:-//wp-events-plugin.com//7.2.3.1//EN
TZID:America/Edmonton
X-WR-TIMEZONE:America/Edmonton
BEGIN:VEVENT
UID:4869@calgarycsl.org
DTSTART;TZID=America/Edmonton:20250629T123000
DTEND;TZID=America/Edmonton:20250629T143000
DTSTAMP:20250527T155246Z
URL:https://calgarycsl.org/events/foundations-course-reunion-party/
SUMMARY:FOUNDATIONS COURSE REUNION PARTY
DESCRIPTION:
END:VEVENT
BEGIN:VTIMEZONE
TZID:America/Edmonton
X-LIC-LOCATION:America/Edmonton
BEGIN:DAYLIGHT
DTSTART:20250309T030000
TZOFFSETFROM:-0700
TZOFFSETTO:-0600
TZNAME:MDT
END:DAYLIGHT
END:VTIMEZONE
END:VCALENDAR