BEGIN:VCALENDAR
VERSION:2.0
PRODID:-//wp-events-plugin.com//7.2.3.1//EN
TZID:America/Edmonton
X-WR-TIMEZONE:America/Edmonton
BEGIN:VEVENT
UID:4275@calgarycsl.org
DTSTART;TZID=America/Edmonton:20241026T080000
DTEND;TZID=America/Edmonton:20241026T150000
DTSTAMP:20240917T184133Z
URL:https://calgarycsl.org/events/foundations-class/
SUMMARY:POSSABILITIES
DESCRIPTION:ALL DAY IN THE SANCTUARY
CATEGORIES:External Private
END:VEVENT
BEGIN:VTIMEZONE
TZID:America/Edmonton
X-LIC-LOCATION:America/Edmonton
BEGIN:DAYLIGHT
DTSTART:20240310T030000
TZOFFSETFROM:-0700
TZOFFSETTO:-0600
TZNAME:MDT
END:DAYLIGHT
END:VTIMEZONE
END:VCALENDAR