BEGIN:VCALENDAR
VERSION:2.0
PRODID:-//wp-events-plugin.com//7.2.3.1//EN
TZID:America/Edmonton
X-WR-TIMEZONE:America/Edmonton
BEGIN:VEVENT
UID:4276@calgarycsl.org
DTSTART;TZID=America/Edmonton:20241026T090000
DTEND;TZID=America/Edmonton:20241026T130000
DTSTAMP:20240923T152931Z
URL:https://calgarycsl.org/events/foundations-4/
SUMMARY:FOUNDATIONS
DESCRIPTION:9:00 AM TO 1:00 PM\n\nCLASSROOM
ATTACH;FMTTYPE=image/jpeg:https://calgarycsl.org/wp-content/uploads/2020/0
 3/class-foundations.jpg
CATEGORIES:Course
END:VEVENT
BEGIN:VTIMEZONE
TZID:America/Edmonton
X-LIC-LOCATION:America/Edmonton
BEGIN:DAYLIGHT
DTSTART:20240310T030000
TZOFFSETFROM:-0700
TZOFFSETTO:-0600
TZNAME:MDT
END:DAYLIGHT
END:VTIMEZONE
END:VCALENDAR