BEGIN:VCALENDAR
VERSION:2.0
PRODID:-//wp-events-plugin.com//7.2.3.1//EN
TZID:America/Edmonton
X-WR-TIMEZONE:America/Edmonton
BEGIN:VEVENT
UID:4312@calgarycsl.org
DTSTART;TZID=America/Edmonton:20250121T183000
DTEND;TZID=America/Edmonton:20250121T210000
DTSTAMP:20241217T192350Z
URL:https://calgarycsl.org/events/foundations-4-2025-01-21/
SUMMARY:FOUNDATIONS
DESCRIPTION:Starts Tuesday January 21 and goes weekly to March 25\, with an
  additional half day on a Saturday a few weeks into the course.\n\nThis is
  an ONLINE course taught by Dr. Pat\n\nSend your $40 Registration amount b
 y E-Transfer to office@calgarycsl.org\n\nor click the "pay now" button for
  credit/debit card [wpecpp id="15021" align="left"]\n\n*PRICELESS PRICING 
 - The standard cost of the course is $290\, which includes the registratio
 n fee of $40. This comes to $25 per class. Because we want everyone to rea
 lize the benefits of the course\, we are only requiring the $40 registrati
 on fee to be paid. For those who chose this option\, wonderful!  As you g
 row in consciousness and recognize the value you are receiving\, you are f
 ree to contribute more — up to and beyond the standard cost of the class
 .\n\nYou are also welcome to send an e-transfer for the standard $290 for 
 the course if you prefer.\n\n&nbsp\;\n\nFoundations is a simple and yet co
 mprehensive dive into the study of the Science of Mind and is the suggeste
 d prerequisite to all other classes. You will be introduced to the basics 
 of the teaching at the Centre\, Meditation\, Spiritual Mind Treatment\, Vi
 sioning and other important Universal Spiritual Principles and Practices.\
 nEach week will consist of the exploration of spiritual principles and spi
 ritual practices that support those principles. You will learn to use the 
 creative process as well as powerful and practical tools to “change your
  thinking\, change your life” and you’ll experience this adventure wit
 h like-minded people!\n\nTuesdays 6:30 - 9:00 PM
ATTACH;FMTTYPE=image/jpeg:https://calgarycsl.org/wp-content/uploads/2020/0
 3/class-foundations.jpg
CATEGORIES:Course
END:VEVENT
BEGIN:VTIMEZONE
TZID:America/Edmonton
X-LIC-LOCATION:America/Edmonton
BEGIN:STANDARD
DTSTART:20241103T010000
TZOFFSETFROM:-0600
TZOFFSETTO:-0700
TZNAME:MST
END:STANDARD
END:VTIMEZONE
END:VCALENDAR