BEGIN:VCALENDAR
VERSION:2.0
PRODID:-//wp-events-plugin.com//7.2.3.1//EN
TZID:America/Edmonton
X-WR-TIMEZONE:America/Edmonton
BEGIN:VEVENT
UID:2697@calgarycsl.org
DTSTART;TZID=America/Edmonton:20231010T183000
DTEND;TZID=America/Edmonton:20231010T210000
DTSTAMP:20230828T182750Z
URL:https://calgarycsl.org/events/foundations-3/
SUMMARY:Foundations
DESCRIPTION:FOUNDATIONS of Our Teaching\nStarting Tuesday October 10\, join
  this 10 week deep-dive learning experience into the foundations of our te
 aching.  Facilitated by Dr. Pat. Accessible to attend in-person only.  
 (online version will be held early next year)\n\nThe regular investment fo
 r this course is $295. It is worth much more than that\, but you may not k
 now this until after you've joined. Here is an opportunity to discover it 
 for yourself with "Priceless Pricing!"\nPRICELESS PRICING \nWe want to dw
 ell in the paradox of making classes accessible for everyone while maintai
 ning the fiscal integrity of our Center.  We invite you to ask your heart
  to guide you to the right amount to pay for this class.  Some will pay m
 ore\, some less.  No exchange is too large or too small.  Our combined g
 ifts converge in the currency of compassion and awareness to awaken us to 
 the enduring good of all.\n\nIn other words –\n\n 	Pay only the $45 regi
 stration fee and commit to coming to class.  Gift this class to yourself
 .\n 	Then\, be open to donate during the course as the value unfolds  –
  any amount up to infinity.\n\n[wpecpp id="15021" align="left"]
ATTACH;FMTTYPE=image/jpeg:https://calgarycsl.org/wp-content/uploads/2020/0
 8/118247536_3121169674603973_4960186744487533047_n-e1661887001776.jpg
CATEGORIES:Course
LOCATION:Calgary Centre for Spiritual Living\, 4411 Manitoba Rd SE\, Calgar
 y\, AB\, T2Y 3Z6\, Canada
X-APPLE-STRUCTURED-LOCATION;VALUE=URI;X-ADDRESS=4411 Manitoba Rd SE\, Calga
 ry\, AB\, T2Y 3Z6\, Canada;X-APPLE-RADIUS=100;X-TITLE=Calgary Centre for S
 piritual Living:geo:0,0
END:VEVENT
BEGIN:VTIMEZONE
TZID:America/Edmonton
X-LIC-LOCATION:America/Edmonton
BEGIN:DAYLIGHT
DTSTART:20230312T030000
TZOFFSETFROM:-0700
TZOFFSETTO:-0600
TZNAME:MDT
END:DAYLIGHT
END:VTIMEZONE
END:VCALENDAR