BEGIN:VCALENDAR
VERSION:2.0
PRODID:-//wp-events-plugin.com//7.2.3.1//EN
TZID:America/Edmonton
X-WR-TIMEZONE:America/Edmonton
BEGIN:VEVENT
UID:3043@calgarycsl.org
DTSTART;TZID=America/Edmonton:20240123T180000
DTEND;TZID=America/Edmonton:20240123T203000
DTSTAMP:20231211T211854Z
URL:https://calgarycsl.org/events/foundations-3-2024-01-23/
SUMMARY:Foundations
DESCRIPTION:Starting Tuesday January 16\, join this 10 week deep-dive learn
 ing experience into the foundations of our teaching.  Facilitated by Dr.
  Pat. This is an "online only" course.\n\nTo register\, simply send an e-t
 ransfer for $45.\n\nCourse Fees after the $45 are through our Priceless Pr
 icing offering.  What is that you ask?\nThe standard cost of the course i
 s $295\, which includes the registration fee of $45. This comes to $25 per
  class. Because we want everyone to realize the benefits of the course\, w
 e are only requiring the $45 registration fee to be paid. For those who ch
 ose this option\, wonderful!  As you grow in consciousness and recognize 
 the value you are receiving\, you are free to contribute more -- up to and
  beyond the standard cost of the class.\n\nYou are also welcome to pay the
  standard $295 for the course if you prefer.\n[wpecpp id="15021" align="le
 ft"]
ATTACH;FMTTYPE=image/jpeg:https://calgarycsl.org/wp-content/uploads/2020/0
 3/class-foundations.jpg
CATEGORIES:Course
END:VEVENT
BEGIN:VTIMEZONE
TZID:America/Edmonton
X-LIC-LOCATION:America/Edmonton
BEGIN:STANDARD
DTSTART:20231105T010000
TZOFFSETFROM:-0600
TZOFFSETTO:-0700
TZNAME:MST
END:STANDARD
END:VTIMEZONE
END:VCALENDAR