BEGIN:VCALENDAR
VERSION:2.0
PRODID:-//wp-events-plugin.com//7.2.3.1//EN
TZID:America/Edmonton
X-WR-TIMEZONE:America/Edmonton
BEGIN:VEVENT
UID:1413@calgarycsl.org
DTSTART;TZID=America/Edmonton:20211012T183000
DTEND;TZID=America/Edmonton:20211012T213000
DTSTAMP:20210908T204303Z
URL:https://calgarycsl.org/events/foundations-2021-10-12/
SUMMARY:Foundations
DESCRIPTION:FOUNDATIONS\n\nJoin our “basics” course\, and learn more ab
 out the Universe and your place in it.  Come away with tools to transform
  your life!\n\nTaught by Dr. Pat (venue TBD).\n\nTuesdays from October 12 
 – December 14 (with one three hour Saturday workshop TBD) 6:30 – 9:30 
 pm.\n\nCost $295 (includes registration fee). Please send etrans to office
 @calgarycsl.org with "Foundations" and your email address in the message a
 rea.\n\nFinancial assistance is available. Contact Dr. Pat at drpat@calgar
 ycsl.org\n\nBook: The Science of Mind by Ernest Holmes\n\nA few days befor
 e class\, we will send the zoom code and curriculum.
ATTACH;FMTTYPE=image/jpeg:https://calgarycsl.org/wp-content/uploads/2020/0
 9/foundations-1.jpg
CATEGORIES:Course
END:VEVENT
BEGIN:VTIMEZONE
TZID:America/Edmonton
X-LIC-LOCATION:America/Edmonton
BEGIN:DAYLIGHT
DTSTART:20210314T030000
TZOFFSETFROM:-0700
TZOFFSETTO:-0600
TZNAME:MDT
END:DAYLIGHT
END:VTIMEZONE
END:VCALENDAR