BEGIN:VCALENDAR
VERSION:2.0
PRODID:-//wp-events-plugin.com//7.2.3.1//EN
TZID:America/Edmonton
X-WR-TIMEZONE:America/Edmonton
BEGIN:VEVENT
UID:2951@calgarycsl.org
DTSTART;TZID=America/Edmonton:20231107T183000
DTEND;TZID=America/Edmonton:20231107T210000
DTSTAMP:20230810T145425Z
URL:https://calgarycsl.org/events/foundations-2-2023-11-07/
SUMMARY:Foundations
DESCRIPTION:Starting Tuesday October 10\, join this 10 week deep-dive learn
 ing experience into the foundations of our teaching.  Facilitated by Dr.
  Pat. Accessible to attend both in-person or online.
CATEGORIES:Course
LOCATION:Calgary Centre for Spiritual Living\, 4411 Manitoba Rd SE\, Calgar
 y\, AB\, T2G 4B9\, Canada
X-APPLE-STRUCTURED-LOCATION;VALUE=URI;X-ADDRESS=4411 Manitoba Rd SE\, Calga
 ry\, AB\, T2G 4B9\, Canada;X-APPLE-RADIUS=100;X-TITLE=Calgary Centre for S
 piritual Living:geo:0,0
END:VEVENT
BEGIN:VTIMEZONE
TZID:America/Edmonton
X-LIC-LOCATION:America/Edmonton
BEGIN:STANDARD
DTSTART:20231105T010000
TZOFFSETFROM:-0600
TZOFFSETTO:-0700
TZNAME:MST
END:STANDARD
END:VTIMEZONE
END:VCALENDAR