BEGIN:VCALENDAR
VERSION:2.0
PRODID:-//wp-events-plugin.com//7.2.3.1//EN
TZID:America/Edmonton
X-WR-TIMEZONE:America/Edmonton
BEGIN:VEVENT
UID:5237@calgarycsl.org
DTSTART;TZID=America/Edmonton:20260328T100000
DTEND;TZID=America/Edmonton:20260328T170000
DTSTAMP:20260115T202923Z
URL:https://calgarycsl.org/events/find-your-voice-with-matthew-kocel-the-c
 osmic-throat-singer/
SUMMARY:Find Your Voice with Matthew Kocel the Cosmic Throat Singer
DESCRIPTION:Attendance is limited due to the nature of the event. Get your 
 ticket now by clicking here \n\nYour voice is so important.\n\nLearning t
 o use it with grace and purpose allows you to share your truth. When you r
 eclaim your\nvoice\, the whole world changes.\n\nCome tune the clarity and
  frequency of your own personal sacred instrument.\n\nThis is more than a 
 workshop. It's a playful\, full-day immersion in healing sound - with an\n
 internationally renowned throat singer\, sonic alchemist\, and teacher.\nM
 atthew gives direct sonic transmissions and shares simple\, fun exercises 
 you can practice at\nhome. You’ll find yourself creating multiple tones 
 at once while transmuting blockages in your\nthroat chakra.\n\n"You made t
 his so easy and accessible... I found my voice!"\n- Meryl Brinin- Brooklyn
 \, New York\n\nThis will be an experience you will never forget!\n\nWe'll 
 laugh. A lot. Some tears will flow. EVERYONE will find a way to expand the
 ir voice.\nWe'll be vocalizing - together - throughout the day.\nBased on 
 past experiences\, some people will be able to create the Tibetan/Tuvan de
 ep\nharmonic sound by the end of the day!\nA new realm of awareness throug
 h sound and frequency awaits you.\n\n"Unbelievably mind blowing... I felt 
 it deep in my core." Wendy Chivers - owner of Utopia\nSacred Space\, North
  Vancouver\, BC\n\nClass size is limited to 20 participants.\n\nMatthew Ko
 cel brings over 30 years of experience as a throat singer\, recording arti
 st\, sonic\nalchemist\, and multi-disciplinary healing arts practitioner.\
 nWith three albums under his belt\, he has become a respected leader in th
 e global sound healing\nmovement. Matthew has graced stages around the wor
 ld\, and his music is a favorite in Dr. Joe\nDispenza's meditations and re
 treats.\n\n"Matthew Kocel’s music is so primal\, so rich and brilliantly
  soulful... It touches us on a\nprofoundly deep level that opens our heart
 s..." - Dr. Joe Dispenza
ATTACH;FMTTYPE=image/jpeg:https://calgarycsl.org/wp-content/uploads/2025/1
 1/matthew-forest-man-cropped-1-scaled.jpg
CATEGORIES:Course,External Public
END:VEVENT
BEGIN:VTIMEZONE
TZID:America/Edmonton
X-LIC-LOCATION:America/Edmonton
BEGIN:DAYLIGHT
DTSTART:20260308T030000
TZOFFSETFROM:-0700
TZOFFSETTO:-0600
TZNAME:MDT
END:DAYLIGHT
END:VTIMEZONE
END:VCALENDAR