BEGIN:VCALENDAR
VERSION:2.0
PRODID:-//wp-events-plugin.com//7.2.3.1//EN
TZID:America/Edmonton
X-WR-TIMEZONE:America/Edmonton
BEGIN:VEVENT
UID:4852@calgarycsl.org
DTSTART;TZID=America/Edmonton:20250223T123000
DTEND;TZID=America/Edmonton:20250223T140000
DTSTAMP:20250204T194250Z
URL:https://calgarycsl.org/events/feb-23-divine-spark-workshop-with-lesley
 -mcnamara/
SUMMARY:Feb 23\, Divine Spark Workshop with Lesley McNamara
DESCRIPTION:Divine Spark - Connecting Body\, Mind and Spirit Workshop\n\nFe
 bruary 23 with Rev Lesley McNamara\n\n 	Feeling tired\, groggy\, and disco
 nnected from your body?\n 	Or are you someone who wants more Joy within yo
 ur body?\n\nJoin Rev Lesley for a fun\, energizing hour and a half of re-c
 onnecting with our bodies\, with in-spirited activities.\n\nFebruary 23 at
  12:30 PM\n\n$20 payable in advance by etransfer to Office@Calgarycsl.org
ATTACH;FMTTYPE=image/jpeg:https://calgarycsl.org/wp-content/uploads/2025/0
 2/Outlook-i3gbqatf.png
CATEGORIES:Workshop
END:VEVENT
BEGIN:VTIMEZONE
TZID:America/Edmonton
X-LIC-LOCATION:America/Edmonton
BEGIN:STANDARD
DTSTART:20241103T010000
TZOFFSETFROM:-0600
TZOFFSETTO:-0700
TZNAME:MST
END:STANDARD
END:VTIMEZONE
END:VCALENDAR