BEGIN:VCALENDAR
VERSION:2.0
PRODID:-//wp-events-plugin.com//7.2.3.1//EN
TZID:America/Edmonton
X-WR-TIMEZONE:America/Edmonton
BEGIN:VEVENT
UID:3525@calgarycsl.org
DTSTART;TZID=America/Edmonton:20240526T121500
DTEND;TZID=America/Edmonton:20240526T143000
DTSTAMP:20240506T164436Z
URL:https://calgarycsl.org/events/family-movie-inside-out/
SUMMARY:FAMILY MOVIE!  INSIDE OUT
DESCRIPTION:May 26\nJoin us for a FREE Movie &amp\; Pizza afternoon featuri
 ng the family friendly movie "Inside Out" with a great message for kids an
 d adults alike!\nPlease sign up in the lobby after Sunday Service or email
  the office at office@calgarycsl.org
ATTACH;FMTTYPE=image/jpeg:https://calgarycsl.org/wp-content/uploads/2024/0
 5/p_insideout_19751_af12286c.jpeg
CATEGORIES:Families,Social
END:VEVENT
BEGIN:VTIMEZONE
TZID:America/Edmonton
X-LIC-LOCATION:America/Edmonton
BEGIN:DAYLIGHT
DTSTART:20240310T030000
TZOFFSETFROM:-0700
TZOFFSETTO:-0600
TZNAME:MDT
END:DAYLIGHT
END:VTIMEZONE
END:VCALENDAR