BEGIN:VCALENDAR
VERSION:2.0
PRODID:-//wp-events-plugin.com//7.2.3.1//EN
TZID:America/Edmonton
X-WR-TIMEZONE:America/Edmonton
BEGIN:VEVENT
UID:2580@calgarycsl.org
DTSTART;TZID=America/Edmonton:20230827T123000
DTEND;TZID=America/Edmonton:20230827T140000
DTSTAMP:20230412T180410Z
URL:https://calgarycsl.org/events/eternal-effect-workshop-series/
SUMMARY:Eternal Effect Workshop Series
DESCRIPTION:Facilitated by Valda Harris.\n\n• A series of 1.5-hour worksh
 ops for applying consciousness and awareness to different themes.\n• Hel
 d once per month afternoons after Sunday Service.\n• A suggested love of
 fering of $20.00 provided to Calgary CSL.\n\nTopics per month include:\n\n
 The Power of Your Intention\nManifestation Tools\nYour Life as Love\nThe P
 ower of Your Vision\nYour Transformation Now\nLiving Your Abundance\nRelea
 sing the Master Mind in You\nActivating Your Awareness\nThe Power of Your 
 Decision\nLiving Your Vibrant Health and Wellbeing\nTaking Brave Action\nS
 piritual Self-Confidence\nLiving Your Purpose and Why
ATTACH;FMTTYPE=image/jpeg:https://calgarycsl.org/wp-content/uploads/2023/0
 4/Valda-Business-Logo.jpg
CATEGORIES:Workshop
END:VEVENT
BEGIN:VTIMEZONE
TZID:America/Edmonton
X-LIC-LOCATION:America/Edmonton
BEGIN:DAYLIGHT
DTSTART:20230312T030000
TZOFFSETFROM:-0700
TZOFFSETTO:-0600
TZNAME:MDT
END:DAYLIGHT
END:VTIMEZONE
END:VCALENDAR