BEGIN:VCALENDAR
VERSION:2.0
PRODID:-//wp-events-plugin.com//7.2.3.1//EN
TZID:America/Edmonton
X-WR-TIMEZONE:America/Edmonton
BEGIN:VEVENT
UID:2582@calgarycsl.org
DTSTART;TZID=America/Edmonton:20231022T123000
DTEND;TZID=America/Edmonton:20231022T140000
DTSTAMP:20230412T172627Z
URL:https://calgarycsl.org/events/eternal-effect-workshop-series-3/
SUMMARY:Eternal Effect Workshop Series
DESCRIPTION:Facilitated by Valda Harris.\n\n• A series of 1.5-hour worksh
 ops for applying consciousness and awareness to different themes.\n• Hel
 d once per month afternoons after Sunday Service\n• A suggested love off
 ering of $20.00 provided to Calgary CSL\n\nTopics per month include:\n\nTh
 e Power of Your Intention\nManifestation Tools\nYour Life as Love\nThe Pow
 er of Your Vision\nYour Transformation Now\nLiving Your Abundance\nReleasi
 ng the Master Mind in You\nActivating Your Awareness\nThe Power of Your De
 cision\nLiving Your Vibrant Health and Wellbeing\nTaking Brave Action\nSpi
 ritual Self-Confidence\nLiving Your Purpose and Why
CATEGORIES:Workshop
END:VEVENT
BEGIN:VTIMEZONE
TZID:America/Edmonton
X-LIC-LOCATION:America/Edmonton
BEGIN:DAYLIGHT
DTSTART:20230312T030000
TZOFFSETFROM:-0700
TZOFFSETTO:-0600
TZNAME:MDT
END:DAYLIGHT
END:VTIMEZONE
END:VCALENDAR