BEGIN:VCALENDAR
VERSION:2.0
PRODID:-//wp-events-plugin.com//7.2.3.1//EN
TZID:America/Edmonton
X-WR-TIMEZONE:America/Edmonton
BEGIN:VEVENT
UID:1288@calgarycsl.org
DTSTART;TZID=America/Edmonton:20210824T183000
DTEND;TZID=America/Edmonton:20210824T210000
DTSTAMP:20210712T194557Z
URL:https://calgarycsl.org/events/e-squared-class-2021-08-24/
SUMMARY:E-Squared Class
DESCRIPTION:E-Squared class will be based on the book by Pam Grout\n\nStart
 ing Tuesday August 3rd - 31st\, 6:30pm - 9:30pm\n\nCourse Fee: $80.00 plu
 s book (purchase online)\n\nNine do-it-yourself FUN energy experiments tha
 t PROVE your thoughts create your reality
ATTACH;FMTTYPE=image/jpeg:https://calgarycsl.org/wp-content/uploads/2021/0
 7/jul-12.jpg
CATEGORIES:Course
END:VEVENT
BEGIN:VTIMEZONE
TZID:America/Edmonton
X-LIC-LOCATION:America/Edmonton
BEGIN:DAYLIGHT
DTSTART:20210314T030000
TZOFFSETFROM:-0700
TZOFFSETTO:-0600
TZNAME:MDT
END:DAYLIGHT
END:VTIMEZONE
END:VCALENDAR