BEGIN:VCALENDAR
VERSION:2.0
PRODID:-//wp-events-plugin.com//7.2.3.1//EN
TZID:America/Edmonton
X-WR-TIMEZONE:America/Edmonton
BEGIN:VEVENT
UID:2165@calgarycsl.org
DTSTART;TZID=America/Edmonton:20230122T123000
DTEND;TZID=America/Edmonton:20230122T150000
DTSTAMP:20230330T145146Z
URL:https://calgarycsl.org/events/discover/
SUMMARY:Discover!
DESCRIPTION:Sunday July 9: Discover class: 12:30-3:00 pm Designed especiall
 y for newcomers\, this short class will help you explore and DISCOVER your
  own beliefs about yourself\, God/Spirit/Divine Presence and community. No
  charge.
CATEGORIES:Course,Discussion Group
END:VEVENT
BEGIN:VTIMEZONE
TZID:America/Edmonton
X-LIC-LOCATION:America/Edmonton
BEGIN:STANDARD
DTSTART:20221106T010000
TZOFFSETFROM:-0600
TZOFFSETTO:-0700
TZNAME:MST
END:STANDARD
END:VTIMEZONE
END:VCALENDAR