BEGIN:VCALENDAR
VERSION:2.0
PRODID:-//wp-events-plugin.com//7.2.3.1//EN
TZID:America/Edmonton
X-WR-TIMEZONE:America/Edmonton
BEGIN:VEVENT
UID:2595@calgarycsl.org
DTSTART;TZID=America/Edmonton:20230709T123000
DTEND;TZID=America/Edmonton:20230709T150000
DTSTAMP:20230501T143922Z
URL:https://calgarycsl.org/events/discover-class/
SUMMARY:Discover Class!
DESCRIPTION:Discover YOUR Spirituality\n\n12:30 - 3:00 PM.\n\nTake advantag
 e of this course to delve into your own spiritual beliefs and explore some
  others.\n\nThere are no wrong answers\, this is about you and your own sp
 iritual exploration.\n\n&nbsp\;\n\n&nbsp\;
CATEGORIES:Course
END:VEVENT
BEGIN:VTIMEZONE
TZID:America/Edmonton
X-LIC-LOCATION:America/Edmonton
BEGIN:DAYLIGHT
DTSTART:20230312T030000
TZOFFSETFROM:-0700
TZOFFSETTO:-0600
TZNAME:MDT
END:DAYLIGHT
END:VTIMEZONE
END:VCALENDAR