BEGIN:VCALENDAR
VERSION:2.0
PRODID:-//wp-events-plugin.com//7.2.3.1//EN
TZID:America/Edmonton
X-WR-TIMEZONE:America/Edmonton
BEGIN:VEVENT
UID:5232@calgarycsl.org
DTSTART;TZID=America/Edmonton:20251221T120000
DTEND;TZID=America/Edmonton:20251221T143000
DTSTAMP:20251118T204738Z
URL:https://calgarycsl.org/events/december-21-community-potluck/
SUMMARY:December 21 Community Potluck!
DESCRIPTION:What a Fun Day we have planned on December 21!\n\nAfter Sunday 
 Celebration join your Spiritual Community in a fun social time as we break
  bread together celebrating the season.\nA sign-up sheet for dishes to bri
 ng will be in the lobby on Sundays from now until a week before the event.
ATTACH;FMTTYPE=image/jpeg:https://calgarycsl.org/wp-content/uploads/2022/1
 0/20220813_114524a-scaled.jpg
CATEGORIES:More CCSL Events,Social
END:VEVENT
BEGIN:VTIMEZONE
TZID:America/Edmonton
X-LIC-LOCATION:America/Edmonton
BEGIN:STANDARD
DTSTART:20251102T010000
TZOFFSETFROM:-0600
TZOFFSETTO:-0700
TZNAME:MST
END:STANDARD
END:VTIMEZONE
END:VCALENDAR