BEGIN:VCALENDAR
VERSION:2.0
PRODID:-//wp-events-plugin.com//7.2.3.1//EN
TZID:America/Edmonton
X-WR-TIMEZONE:America/Edmonton
BEGIN:VEVENT
UID:4286@calgarycsl.org
DTSTART;TZID=America/Edmonton:20241215T120000
DTEND;TZID=America/Edmonton:20241215T131500
DTSTAMP:20241030T183511Z
URL:https://calgarycsl.org/events/december-15-community-potluck/
SUMMARY:December 15 Community Potluck!
DESCRIPTION:What a Fun Day we have planned on December 15!\n\nAfter Sunday 
 Celebration join your Spiritual Community in a fun social time as we all s
 hare our dishes together.\nA sign-up sheet for dishes to bring will be in 
 the lobby on Sundays from now until a week before the event.\n\nAnd... at 
 1:30 PM\, we will all move in to the Sanctuary to enjoy Amy Bishop perform
  a Christmas Concert.  ($25 for the concert\, send your -e-transfer to off
 ice@calgarycsl.org)
ATTACH;FMTTYPE=image/jpeg:https://calgarycsl.org/wp-content/uploads/2022/1
 0/20220813_114524a-scaled.jpg
CATEGORIES:More CCSL Events,Social
END:VEVENT
BEGIN:VTIMEZONE
TZID:America/Edmonton
X-LIC-LOCATION:America/Edmonton
BEGIN:STANDARD
DTSTART:20241103T010000
TZOFFSETFROM:-0600
TZOFFSETTO:-0700
TZNAME:MST
END:STANDARD
END:VTIMEZONE
END:VCALENDAR