BEGIN:VCALENDAR
VERSION:2.0
PRODID:-//wp-events-plugin.com//7.2.3.1//EN
TZID:America/Edmonton
X-WR-TIMEZONE:America/Edmonton
BEGIN:VEVENT
UID:3418@calgarycsl.org
DTSTART;TZID=America/Edmonton:20240922T123000
DTEND;TZID=America/Edmonton:20240922T153000
DTSTAMP:20240912T201809Z
URL:https://calgarycsl.org/events/creative-mystic-painting-workshop/
SUMMARY:'Creative Mystic' Painting Workshop
DESCRIPTION:Janice Gallant facilitates by using 'meditative painting' to gu
 ide people in creating your own piece of art to take home!\n\nIn this medi
 tative painting workshop\, you will sink into your creative flow and commu
 ne with your soul. Come and paint what your heart is calling forth!\n\nYou
  can learn more about Janice and Soulfully Aligned Women at https://janic
 egallant.teachable.com/ or on Instagram @soulfullyalignedwomen.\n\nAll s
 upplies included by subsidy through the Social Committee Fund.\n\nSunday\,
  September 22 12:30 – 3:30 pm\n\nCost per person $25\n\nMUST SIGN UP AND
  PAY NO LATER THAN WEDNESDAY\, SEPTEMBER 18\n\nSend your e-transfer to off
 ice@calgarycsl.org
ATTACH;FMTTYPE=image/jpeg:https://calgarycsl.org/wp-content/uploads/2024/0
 4/image.jpg
CATEGORIES:Workshop
END:VEVENT
BEGIN:VTIMEZONE
TZID:America/Edmonton
X-LIC-LOCATION:America/Edmonton
BEGIN:DAYLIGHT
DTSTART:20240310T030000
TZOFFSETFROM:-0700
TZOFFSETTO:-0600
TZNAME:MDT
END:DAYLIGHT
END:VTIMEZONE
END:VCALENDAR