BEGIN:VCALENDAR
VERSION:2.0
PRODID:-//wp-events-plugin.com//7.2.3.1//EN
TZID:America/Edmonton
X-WR-TIMEZONE:America/Edmonton
BEGIN:VEVENT
UID:5132@calgarycsl.org
DTSTART;TZID=America/Edmonton:20251018T083000
DTEND;TZID=America/Edmonton:20251018T130000
DTSTAMP:20250924T165646Z
URL:https://calgarycsl.org/events/cpaws/
SUMMARY:CPAWS
DESCRIPTION:Mini-forest educational event
ATTACH;FMTTYPE=image/jpeg:https://calgarycsl.org/wp-content/uploads/2025/0
 7/20250730_1203322-scaled.jpg
CATEGORIES:External Public
END:VEVENT
BEGIN:VTIMEZONE
TZID:America/Edmonton
X-LIC-LOCATION:America/Edmonton
BEGIN:DAYLIGHT
DTSTART:20250309T030000
TZOFFSETFROM:-0700
TZOFFSETTO:-0600
TZNAME:MDT
END:DAYLIGHT
END:VTIMEZONE
END:VCALENDAR