BEGIN:VCALENDAR
VERSION:2.0
PRODID:-//wp-events-plugin.com//7.2.3.1//EN
TZID:America/Edmonton
X-WR-TIMEZONE:America/Edmonton
BEGIN:VEVENT
UID:972@calgarycsl.org
DTSTART;TZID=America/Edmonton:20201213T170000
DTEND;TZID=America/Edmonton:20201213T190000
DTSTAMP:20201211T171913Z
URL:https://calgarycsl.org/events/cozy-couch-holiday-concert-series-facebo
 ok-live/
SUMMARY:Cozy Couch Holiday Concert Series FaceBook Live
DESCRIPTION:Sunday\, December 13\, 2020\n\nHappening on FaceBook Live Start
 ing  at 5 pm MST / 7 PM ET\n\nFeaturing:\n\nAmy Bishop – 5 PM MST/ 7 PM 
 ET – https://facebook.com/amybishopmusic\n\nGary Lynn Floyd – 6 PM MST
 / 8 PM ET – https://facebook.com/gary.l.floyd\n\nEddie Watkins\, Jr  –
  7 PM MST/ 9 PM ET – https://facebook.com/eddiewatkinsjr
CATEGORIES:More CCSL Events
END:VEVENT
BEGIN:VTIMEZONE
TZID:America/Edmonton
X-LIC-LOCATION:America/Edmonton
BEGIN:STANDARD
DTSTART:20201101T010000
TZOFFSETFROM:-0600
TZOFFSETTO:-0700
TZNAME:MST
END:STANDARD
END:VTIMEZONE
END:VCALENDAR