BEGIN:VCALENDAR
VERSION:2.0
PRODID:-//wp-events-plugin.com//7.2.3.1//EN
TZID:America/Edmonton
X-WR-TIMEZONE:America/Edmonton
BEGIN:VEVENT
UID:910@calgarycsl.org
DTSTART;TZID=America/Edmonton:20201228T190000
DTEND;TZID=America/Edmonton:20201228T203000
DTSTAMP:20200916T153909Z
URL:https://calgarycsl.org/events/consciousness-seekers-zoom-2020-12-28/
SUMMARY:Consciousness Seekers ZOOM
DESCRIPTION:\n\n\n\n\n\n\n\n\n\n\n\n\n\n\n\n\nSpiritual Practitioner\, Ron 
 Hahn\, facilitates a popular and informal discussion group called Consciou
 sness Seekers on Monday evenings 7- 8:30 pm. Currently meeting via Zoom: C
 lick here for the link. Password is seekers. Code is 8391 7039 832\, shoul
 d you require it.\n\nFor everyone from teens to ministers\, newcomers to s
 easoned members. No registration or preparation is needed to participate. 
 Drop in as you like. It’s free to participate – love offerings are app
 reciated. Monetary donations also accepted via e-transfer to office@calgar
 ycsl.org.  Please indicate it is for “Seekers” in the message. Feel f
 ree to contact the facilitator with any questions or curiosities you might
  have at ronhahn@calgarycsl.org.\n\nThe group explores self-realization\, 
 personal acceptance and purpose\, and general understanding of  “why li
 fe works the way it does” by examining our existing belief systems and e
 xploring the philosophy of Science of Mind.   Meditation\, examination o
 f other spiritual philosophies\, and various readings and texts are used t
 o promote discussion among the participants\, who are welcome to actively 
 join in or simply listen and consider.\n\nCurrently\, conversation is loos
 ely centered around the book “Working With The Law” by Raymond Holliwe
 ll with short segments read aloud.  The book is not required but members 
 find it useful and is available at class or our own Bookstore as well as t
 hrough online book sellers.\n\n\n\n\n\n
ATTACH;FMTTYPE=image/jpeg:https://calgarycsl.org/wp-content/uploads/2020/0
 4/consciousness_feat-e1586738398115.jpg
CATEGORIES:Discussion Group
END:VEVENT
BEGIN:VTIMEZONE
TZID:America/Edmonton
X-LIC-LOCATION:America/Edmonton
BEGIN:STANDARD
DTSTART:20201101T010000
TZOFFSETFROM:-0600
TZOFFSETTO:-0700
TZNAME:MST
END:STANDARD
END:VTIMEZONE
END:VCALENDAR