BEGIN:VCALENDAR
VERSION:2.0
PRODID:-//wp-events-plugin.com//7.2.3.1//EN
TZID:America/Edmonton
X-WR-TIMEZONE:America/Edmonton
BEGIN:VEVENT
UID:1348@calgarycsl.org
DTSTART;TZID=America/Edmonton:20211018T190000
DTEND;TZID=America/Edmonton:20211018T203000
DTSTAMP:20210901T162635Z
URL:https://calgarycsl.org/events/consciousness-seekers-group-2021-10-18/
SUMMARY:Consciousness Seekers Group
DESCRIPTION:Join Spiritual Practitioner Ron Hahn as he facilitates this pop
 ular and informal discussion group on Monday’s from 7:00pm – 8:30pm.\n
 \nJoin via Zoom. Click here for the link. Password is: seekers.\n\nThe C
 onsciousness Seekers group explores self-realization\, personal acceptance
  and purpose\, and general understanding of  “why life works the way it
  does” by examining our existing belief systems and exploring the philos
 ophy of Science of Mind. Meditation\, examination of other spiritual philo
 sophies\, and various readings and texts are used to promote discussion am
 ong the participants\, who are welcome to actively join in or simply liste
 n and consider.\n\n&nbsp\;
ATTACH;FMTTYPE=image/jpeg:https://calgarycsl.org/wp-content/uploads/2020/0
 8/44447346_2315345481826620_7215011480607916032_n.jpg
CATEGORIES:Discussion Group
END:VEVENT
BEGIN:VTIMEZONE
TZID:America/Edmonton
X-LIC-LOCATION:America/Edmonton
BEGIN:DAYLIGHT
DTSTART:20210314T030000
TZOFFSETFROM:-0700
TZOFFSETTO:-0600
TZNAME:MDT
END:DAYLIGHT
END:VTIMEZONE
END:VCALENDAR