BEGIN:VCALENDAR
VERSION:2.0
PRODID:-//wp-events-plugin.com//7.2.3.1//EN
TZID:America/Edmonton
X-WR-TIMEZONE:America/Edmonton
BEGIN:VEVENT
UID:2073@calgarycsl.org
DTSTART;TZID=America/Edmonton:20230529T190000
DTEND;TZID=America/Edmonton:20230529T203000
DTSTAMP:20220927T151242Z
URL:https://calgarycsl.org/events/consciousness-seekers-2-2023-05-29/
SUMMARY:Consciousness Seekers
DESCRIPTION:The Seekers are back!\nSpiritual Practitioner\, Ron Hahn\, cont
 inues to facilitate this popular and informal discussion group called Con
 sciousness Seekers on Monday evenings 7- 8:30 pm. Continuing to meet via Z
 oom: . https://us02web.zoom.us/j/85965082549?pwd=MU85aGFYQTdxZWhISVZ1SUZkT
 zM3UT09    Password is 883491\nThe group explores self-realization\, per
 sonal acceptance\, purpose\, and general understanding of “why life work
 s the way it does” by examining our existing belief systems.\nMeditation
 \, examination of various spiritual philosophies\, readings and texts are 
 used to promote discussion among the participants\, who are welcome to act
 ively join in or simply listen and consider.\nThe book we are using to lea
 d in discussion to start this year is called "Being Myself" by Rupert Spir
 a\nFor everyone from teens to ministers\, newcomers to seasoned members. N
 o registration or preparation is needed to participate. Drop in as you lik
 e. It’s free to participate – love offerings are appreciated.\nJoin us
  every Monday evening (except holidays)!
ATTACH;FMTTYPE=image/jpeg:https://calgarycsl.org/wp-content/uploads/2020/0
 8/44447346_2315345481826620_7215011480607916032_n.jpg
CATEGORIES:Discussion Group
END:VEVENT
BEGIN:VTIMEZONE
TZID:America/Edmonton
X-LIC-LOCATION:America/Edmonton
BEGIN:DAYLIGHT
DTSTART:20230312T030000
TZOFFSETFROM:-0700
TZOFFSETTO:-0600
TZNAME:MDT
END:DAYLIGHT
END:VTIMEZONE
END:VCALENDAR