BEGIN:VCALENDAR
VERSION:2.0
PRODID:-//wp-events-plugin.com//7.2.3.1//EN
TZID:America/Edmonton
X-WR-TIMEZONE:America/Edmonton
BEGIN:VEVENT
UID:2067@calgarycsl.org
DTSTART;TZID=America/Edmonton:20230417T190000
DTEND;TZID=America/Edmonton:20230417T203000
DTSTAMP:20230327T151359Z
URL:https://calgarycsl.org/events/consciousness-seekers-2-2023-04-17/
SUMMARY:Consciousness Seekers - Exercise your spiritual curiosity
DESCRIPTION:Spiritual Practitioner\, Ron Hahn\, continues to facilitate thi
 s popular and informal discussion group called Consciousness Seekers on 
 Monday evenings 7- 8:30 pm.\nContinuing to meet via Zoom: https://us02web
 .zoom.us/j/85965082549?pwd=MU85aGFYQTdxZWhISVZ1SUZkTzM3UT09    Password 
 is 883491\nMeditation\, examination of various spiritual philosophies\, re
 adings and texts are used to promote discussion among the participants\, w
 ho are welcome to actively join in or simply listen and consider.\nThe boo
 k  we will use starting April 17th and going to June 19th is “A New Ea
 rth” by Eckhart Tolle.  This is really an easy exploration that everyon
 e can enjoy from the spiritually curious to the long time seeker.\n No re
 gistration is required and it is free to participate.  It’s free to par
 ticipate – love offerings are appreciated.  Just link in and begin.\nJo
 in us every Monday evening (except holidays)  from 7 to 8:30 (mdst). Thi
 s is a discussion group so dropping in is welcome.
ATTACH;FMTTYPE=image/jpeg:https://calgarycsl.org/wp-content/uploads/2022/0
 9/attaining-spiritual-consciousness-2019-02-17.jpg
CATEGORIES:Discussion Group
END:VEVENT
BEGIN:VTIMEZONE
TZID:America/Edmonton
X-LIC-LOCATION:America/Edmonton
BEGIN:DAYLIGHT
DTSTART:20230312T030000
TZOFFSETFROM:-0700
TZOFFSETTO:-0600
TZNAME:MDT
END:DAYLIGHT
END:VTIMEZONE
END:VCALENDAR